BEGIN:VCALENDAR
VERSION:2.0
PRODID:-//Lisburn BMX club - ECPv6.5.1.5//NONSGML v1.0//EN
CALSCALE:GREGORIAN
METHOD:PUBLISH
X-WR-CALNAME:Lisburn BMX club
X-ORIGINAL-URL:https://www.lisburnbmxclub.com
X-WR-CALDESC:Events for Lisburn BMX club
REFRESH-INTERVAL;VALUE=DURATION:PT1H
X-Robots-Tag:noindex
X-PUBLISHED-TTL:PT1H
BEGIN:VTIMEZONE

END:VTIMEZONE
BEGIN:VEVENT
DTSTART;TZID=UTC:20240706T080000
DTEND;TZID=UTC:20240707T170000
DTSTAMP:20260423T224611
CREATED:20240429T190001Z
LAST-MODIFIED:20240501T115026Z
UID:14399-1720252800-1720371600@www.lisburnbmxclub.com
SUMMARY:2024 British BMX Race National Series RD 9 & 10
DESCRIPTION:Rounds 9 & 10: 06-07 July\, Birmingham \nBirmingham BMX Club \n290 Aldridge Rd\, Birmingham B42 2SP
URL:https://www.lisburnbmxclub.com/event/2024-british-bmx-race-national-series-rd-9-10/
LOCATION:Birmingham BMX Club\, 290 Aldridge Rd\, Birmingham\, B42 2SP\, United Kingdom
CATEGORIES:2024 British BMX Race National Series
END:VEVENT
BEGIN:VEVENT
DTSTART;TZID=UTC:20240630T130000
DTEND;TZID=UTC:20240630T130000
DTSTAMP:20260423T224611
CREATED:20240429T184109Z
LAST-MODIFIED:20240501T114317Z
UID:14367-1719752400-1719752400@www.lisburnbmxclub.com
SUMMARY:Lisburn BMX Club Spring / Summer Series RD2
DESCRIPTION:
URL:https://www.lisburnbmxclub.com/event/lisburn-bmx-club-spring-summer-series-rd2/
LOCATION:Lisburn BMX Club\, Bells Lane \, lambeg Road\, Lisburn\, BT27 4QJ\, United Kingdom
CATEGORIES:Club races in Ireland,Lisburn BMX Club
END:VEVENT
BEGIN:VEVENT
DTSTART;TZID=UTC:20240622T080000
DTEND;TZID=UTC:20240623T170000
DTSTAMP:20260423T224611
CREATED:20240429T185713Z
LAST-MODIFIED:20240501T115021Z
UID:14395-1719043200-1719162000@www.lisburnbmxclub.com
SUMMARY:2024 British BMX Race National Series RD 7 & 8
DESCRIPTION:Rounds 7 & 8: 22–23 June\, Manchester Platt Fields \nPlatt Fields Park BMX Track \nPlatt Fields Park\, Mabfield Rd\, Fallowfield\, Manchester M14 6LA
URL:https://www.lisburnbmxclub.com/event/2024-british-bmx-race-national-series-rd-7-8/
LOCATION:Platt Fields Park\, Mabfield Rd\, Fallowfield\, Manchester\, Mabfield Rd\, Fallowfield\, Manchester M14 6LA\, United Kingdom
CATEGORIES:2024 British BMX Race National Series
END:VEVENT
BEGIN:VEVENT
DTSTART;TZID=UTC:20240616T130000
DTEND;TZID=UTC:20240616T170000
DTSTAMP:20260423T224611
CREATED:20240429T175716Z
LAST-MODIFIED:20240501T114846Z
UID:14334-1718542800-1718557200@www.lisburnbmxclub.com
SUMMARY:Lucan BMX Club Summer Series RD3
DESCRIPTION:
URL:https://www.lisburnbmxclub.com/event/lucan-bmx-club-summer-series-rd3/
LOCATION:Lucan BMX Club\, St. Catherine's Park\, Lucan\, K78 HW14\, Ireland
CATEGORIES:Club races in Ireland,Lucan BMX Club
END:VEVENT
BEGIN:VEVENT
DTSTART;TZID=UTC:20240608T080000
DTEND;TZID=UTC:20240609T170000
DTSTAMP:20260423T224611
CREATED:20240429T185439Z
LAST-MODIFIED:20240501T115015Z
UID:14391-1717833600-1717952400@www.lisburnbmxclub.com
SUMMARY:2024 British BMX Race National Series RD 5 & 6
DESCRIPTION:Rounds 5 & 6: 08–09 June\, Cumbernauld \nCumbernauld Centurions BMX Race Club \n1 Ardgoil Dr\, Cumbernauld\, Glasgow G68 9NE
URL:https://www.lisburnbmxclub.com/event/2024-british-bmx-race-national-series-rd-5-6/
LOCATION:Cumbernauld Centurions BMX Race Club\, 1 Ardgoil Dr\, Cumbernauld\, Glasgow G68 9NE\, Glasgow\, 1 Ardgoil Dr\, Cumbernauld\, Glasgow G68 9NE\, United Kingdom
CATEGORIES:2024 British BMX Race National Series
END:VEVENT
BEGIN:VEVENT
DTSTART;TZID=UTC:20240526T130000
DTEND;TZID=UTC:20240526T170000
DTSTAMP:20260423T224611
CREATED:20240429T175716Z
LAST-MODIFIED:20240501T114846Z
UID:14333-1716728400-1716742800@www.lisburnbmxclub.com
SUMMARY:Lucan BMX Club Summer Series RD2
DESCRIPTION:
URL:https://www.lisburnbmxclub.com/event/lucan-bmx-club-summer-series-rd2/
LOCATION:Lucan BMX Club\, St. Catherine's Park\, Lucan\, K78 HW14\, Ireland
CATEGORIES:Club races in Ireland,Lucan BMX Club
END:VEVENT
BEGIN:VEVENT
DTSTART;TZID=UTC:20240512T130000
DTEND;TZID=UTC:20240512T130000
DTSTAMP:20260423T224611
CREATED:20240429T184109Z
LAST-MODIFIED:20240501T114259Z
UID:14366-1715518800-1715518800@www.lisburnbmxclub.com
SUMMARY:Lisburn BMX Club Spring / Summer Series RD1
DESCRIPTION:
URL:https://www.lisburnbmxclub.com/event/lisburn-bmx-club-spring-summer-series-rd1/
LOCATION:Lisburn BMX Club\, Bells Lane \, lambeg Road\, Lisburn\, BT27 4QJ\, United Kingdom
CATEGORIES:Club races in Ireland,Lisburn BMX Club
END:VEVENT
BEGIN:VEVENT
DTSTART;TZID=UTC:20240504T130000
DTEND;TZID=UTC:20240504T170000
DTSTAMP:20260423T224611
CREATED:20240429T174338Z
LAST-MODIFIED:20240501T114842Z
UID:14326-1714827600-1714842000@www.lisburnbmxclub.com
SUMMARY:Lucan BMX - Summer Series 2024 RD1
DESCRIPTION:
URL:https://www.lisburnbmxclub.com/event/lucan-bmx-summer-series-2024-rd1/
LOCATION:Lucan BMX Club\, St. Catherine's Park\, Lucan\, K78 HW14\, Ireland
CATEGORIES:Club races in Ireland,Lucan BMX Club
END:VEVENT
BEGIN:VEVENT
DTSTART;TZID=UTC:20260423T224611
DTEND;TZID=UTC:20260423T224611
DTSTAMP:20260423T224611
CREATED:20240429T184114Z
LAST-MODIFIED:20240429T184114Z
UID:14372-0-0@www.lisburnbmxclub.com
SUMMARY:Lisburn BMX Club Autumn Series RD2
DESCRIPTION:
URL:https://www.lisburnbmxclub.com/event/lisburn-bmx-club-autumn-series-rd2/
LOCATION:Lisburn BMX Club\, Bells Lane \, lambeg Road\, Lisburn\, BT27 4QJ\, United Kingdom
CATEGORIES:Lisburn BMX Club
END:VEVENT
END:VCALENDAR