BEGIN:VCALENDAR
VERSION:2.0
PRODID:-//Lisburn BMX club - ECPv6.5.1.5//NONSGML v1.0//EN
CALSCALE:GREGORIAN
METHOD:PUBLISH
X-WR-CALNAME:Lisburn BMX club
X-ORIGINAL-URL:https://www.lisburnbmxclub.com
X-WR-CALDESC:Events for Lisburn BMX club
REFRESH-INTERVAL;VALUE=DURATION:PT1H
X-Robots-Tag:noindex
X-PUBLISHED-TTL:PT1H
BEGIN:VTIMEZONE
TZID:UTC
BEGIN:STANDARD
TZOFFSETFROM:+0000
TZOFFSETTO:+0000
TZNAME:UTC
DTSTART:20240101T000000
END:STANDARD
END:VTIMEZONE
BEGIN:VEVENT
DTSTART;TZID=UTC:20240818T130000
DTEND;TZID=UTC:20240818T170000
DTSTAMP:20260425T010540
CREATED:20240429T184102Z
LAST-MODIFIED:20240429T184524Z
UID:14361-1723986000-1724000400@www.lisburnbmxclub.com
SUMMARY:Lucan BMX Club Race
DESCRIPTION:
URL:https://www.lisburnbmxclub.com/event/lucan-bmx-club-race-2/
LOCATION:Lucan BMX Club\, St. Catherine's Park\, Lucan\, K78 HW14\, Ireland
CATEGORIES:Club races in Ireland,Lucan BMX Club
END:VEVENT
END:VCALENDAR