BEGIN:VCALENDAR
VERSION:2.0
PRODID:-//Lisburn BMX club - ECPv6.5.1.5//NONSGML v1.0//EN
CALSCALE:GREGORIAN
METHOD:PUBLISH
X-ORIGINAL-URL:https://www.lisburnbmxclub.com
X-WR-CALDESC:Events for Lisburn BMX club
REFRESH-INTERVAL;VALUE=DURATION:PT1H
X-Robots-Tag:noindex
X-PUBLISHED-TTL:PT1H
BEGIN:VTIMEZONE
TZID:UTC
BEGIN:STANDARD
TZOFFSETFROM:+0000
TZOFFSETTO:+0000
TZNAME:UTC
DTSTART:20240101T000000
END:STANDARD
END:VTIMEZONE
BEGIN:VEVENT
DTSTART;TZID=UTC:20240929T130000
DTEND;TZID=UTC:20240929T170000
DTSTAMP:20260424T221054
CREATED:20240429T184102Z
LAST-MODIFIED:20240429T184524Z
UID:14362-1727614800-1727629200@www.lisburnbmxclub.com
SUMMARY:Lucan BMX Club Autumn Series RD1
DESCRIPTION:
URL:https://www.lisburnbmxclub.com/event/lucan-bmx-club-autumn-series-rd1/
LOCATION:Lucan BMX Club\, St. Catherine's Park\, Lucan\, K78 HW14\, Ireland
CATEGORIES:Club races in Ireland,Lucan BMX Club
END:VEVENT
END:VCALENDAR