BEGIN:VCALENDAR
VERSION:2.0
PRODID:-//Lisburn BMX club - ECPv6.5.1.5//NONSGML v1.0//EN
CALSCALE:GREGORIAN
METHOD:PUBLISH
X-WR-CALNAME:Lisburn BMX club
X-ORIGINAL-URL:https://www.lisburnbmxclub.com
X-WR-CALDESC:Events for Lisburn BMX club
REFRESH-INTERVAL;VALUE=DURATION:PT1H
X-Robots-Tag:noindex
X-PUBLISHED-TTL:PT1H
BEGIN:VTIMEZONE

END:VTIMEZONE
BEGIN:VEVENT
DTSTART;TZID=UTC:20241229T130000
DTEND;TZID=UTC:20241229T130000
DTSTAMP:20260423T153015
CREATED:20240429T184114Z
LAST-MODIFIED:20240429T184523Z
UID:14374-1735477200-1735477200@www.lisburnbmxclub.com
SUMMARY:Lisburn BMX Club xmas Race
DESCRIPTION:
URL:https://www.lisburnbmxclub.com/event/lisburn-bmx-club-xmas-race/
LOCATION:Lisburn BMX Club\, Bells Lane \, lambeg Road\, Lisburn\, BT27 4QJ\, United Kingdom
CATEGORIES:Club races in Ireland,Lisburn BMX Club
END:VEVENT
BEGIN:VEVENT
DTSTART;TZID=UTC:20240811T130000
DTEND;TZID=UTC:20240811T130000
DTSTAMP:20260423T153015
CREATED:20240429T184109Z
LAST-MODIFIED:20240501T114311Z
UID:14369-1723381200-1723381200@www.lisburnbmxclub.com
SUMMARY:Lisburn BMX Club Spring / Summer Series RD4
DESCRIPTION:
URL:https://www.lisburnbmxclub.com/event/lisburn-bmx-club-spring-summer-series-rd4/
LOCATION:Lisburn BMX Club\, Bells Lane \, lambeg Road\, Lisburn\, BT27 4QJ\, United Kingdom
CATEGORIES:Club races in Ireland,Lisburn BMX Club
END:VEVENT
BEGIN:VEVENT
DTSTART;TZID=UTC:20240630T130000
DTEND;TZID=UTC:20240630T130000
DTSTAMP:20260423T153015
CREATED:20240429T184109Z
LAST-MODIFIED:20240501T114317Z
UID:14367-1719752400-1719752400@www.lisburnbmxclub.com
SUMMARY:Lisburn BMX Club Spring / Summer Series RD2
DESCRIPTION:
URL:https://www.lisburnbmxclub.com/event/lisburn-bmx-club-spring-summer-series-rd2/
LOCATION:Lisburn BMX Club\, Bells Lane \, lambeg Road\, Lisburn\, BT27 4QJ\, United Kingdom
CATEGORIES:Club races in Ireland,Lisburn BMX Club
END:VEVENT
BEGIN:VEVENT
DTSTART;TZID=UTC:20240512T130000
DTEND;TZID=UTC:20240512T130000
DTSTAMP:20260423T153015
CREATED:20240429T184109Z
LAST-MODIFIED:20240501T114259Z
UID:14366-1715518800-1715518800@www.lisburnbmxclub.com
SUMMARY:Lisburn BMX Club Spring / Summer Series RD1
DESCRIPTION:
URL:https://www.lisburnbmxclub.com/event/lisburn-bmx-club-spring-summer-series-rd1/
LOCATION:Lisburn BMX Club\, Bells Lane \, lambeg Road\, Lisburn\, BT27 4QJ\, United Kingdom
CATEGORIES:Club races in Ireland,Lisburn BMX Club
END:VEVENT
BEGIN:VEVENT
DTSTART;TZID=UTC:20260423T153015
DTEND;TZID=UTC:20260423T153015
DTSTAMP:20260423T153015
CREATED:20240429T184114Z
LAST-MODIFIED:20240429T184114Z
UID:14372-0-0@www.lisburnbmxclub.com
SUMMARY:Lisburn BMX Club Autumn Series RD2
DESCRIPTION:
URL:https://www.lisburnbmxclub.com/event/lisburn-bmx-club-autumn-series-rd2/
LOCATION:Lisburn BMX Club\, Bells Lane \, lambeg Road\, Lisburn\, BT27 4QJ\, United Kingdom
CATEGORIES:Lisburn BMX Club
END:VEVENT
END:VCALENDAR