BEGIN:VCALENDAR
VERSION:2.0
PRODID:-//Lisburn BMX club - ECPv6.5.1.5//NONSGML v1.0//EN
CALSCALE:GREGORIAN
METHOD:PUBLISH
X-ORIGINAL-URL:https://www.lisburnbmxclub.com
X-WR-CALDESC:Events for Lisburn BMX club
REFRESH-INTERVAL;VALUE=DURATION:PT1H
X-Robots-Tag:noindex
X-PUBLISHED-TTL:PT1H
BEGIN:VTIMEZONE
TZID:UTC
BEGIN:STANDARD
TZOFFSETFROM:+0000
TZOFFSETTO:+0000
TZNAME:UTC
DTSTART:20240101T000000
END:STANDARD
END:VTIMEZONE
BEGIN:VEVENT
DTSTART;TZID=UTC:20240915T103000
DTEND;TZID=UTC:20240915T170000
DTSTAMP:20260423T152844
CREATED:20240429T183650Z
LAST-MODIFIED:20240501T114615Z
UID:14351-1726396200-1726419600@www.lisburnbmxclub.com
SUMMARY:2024 Irish BMX National Series Round 5
DESCRIPTION:
URL:https://www.lisburnbmxclub.com/event/2024-irish-bmx-national-series-round-5/
LOCATION:Lisburn BMX Club\, Bells Lane \, lambeg Road\, Lisburn\, BT27 4QJ\, United Kingdom
CATEGORIES:Irish BMX National series
END:VEVENT
BEGIN:VEVENT
DTSTART;TZID=UTC:20240804T100000
DTEND;TZID=UTC:20240804T170000
DTSTAMP:20260423T152844
CREATED:20240429T183333Z
LAST-MODIFIED:20240501T114621Z
UID:14348-1722765600-1722790800@www.lisburnbmxclub.com
SUMMARY:2024 Irish BMX National Series Round 4
DESCRIPTION:
URL:https://www.lisburnbmxclub.com/event/2024-irish-bmx-national-series-round-4/
LOCATION:Lucan BMX Club\, St. Catherine's Park\, Lucan\, K78 HW14\, Ireland
CATEGORIES:Irish BMX National series
END:VEVENT
BEGIN:VEVENT
DTSTART;TZID=UTC:20240707T100000
DTEND;TZID=UTC:20240707T170000
DTSTAMP:20260423T152844
CREATED:20240429T183847Z
LAST-MODIFIED:20240501T114645Z
UID:14355-1720346400-1720371600@www.lisburnbmxclub.com
SUMMARY:2024 Irish BMX National Championships
DESCRIPTION:
URL:https://www.lisburnbmxclub.com/event/2024-irish-bmx-national-championships/
LOCATION:Ratoath BMX Club\, Ratoath\, Co. Meath\, Ireland
CATEGORIES:Irish BMX National series
END:VEVENT
BEGIN:VEVENT
DTSTART;TZID=UTC:20240706T093000
DTEND;TZID=UTC:20240706T170000
DTSTAMP:20260423T152844
CREATED:20240429T183129Z
LAST-MODIFIED:20240501T114625Z
UID:14344-1720258200-1720285200@www.lisburnbmxclub.com
SUMMARY:2024 Irish BMX National Series Round 3
DESCRIPTION:
URL:https://www.lisburnbmxclub.com/event/2024-irish-bmx-national-series-round-3/
LOCATION:Ratoath BMX Club\, Ratoath\, Co. Meath\, Ireland
CATEGORIES:Irish BMX National series
END:VEVENT
END:VCALENDAR